BEGIN:VCALENDAR
VERSION:2.0
PRODID:icalendar-ruby
CALSCALE:GREGORIAN
METHOD:PUBLISH
BEGIN:VEVENT
DTSTAMP:20260425T120710Z
UID:681-1638519@crbaptist.bc.ca
DTSTART:20261103T023000Z
DTEND:20261103T043000Z
CLASS:PUBLIC
CREATED:20260425T030144
DESCRIPTION:Join us for a roundtable discussion on a wide range of apologet
 ics topics. The sessions will have a short video\, handouts\, as well as d
 iscussion time.  \n\n\n\nFebruary 2nd and 9th\n\n\n\nEngaging Latter-day 
 Saints\nInstructor: Robby Lashua\nIt’s happened to most of us. You are h
 ome\, relaxing\, when suddenly there is a knock at your front door. You lo
 ok to see who it is and discover two young LDS missionaries ready to share
  their Mormon faith with you. Are you prepared? Are you ready to engage wi
 th them about their faith and yours? \nIn this course\, you will learn th
 e history of Mormonism’s founder Joseph Smith\, which holy books Latter-
 day Saints believe are sacred\, and key points in Mormon theology. You wil
 l also be trained in four witnessing methods to use with your LDS friends\
 , neighbours\, and missionaries. \nThis course will help you to confident
 ly engage with Latter-day Saints and make a case for the true gospel and t
 he true Jesus.\n\n\n\nFebruary 23rd and March 2nd\n\n\nEngaging Jehovah's 
 Witnesses\n\n\nInstructor: Tim Barnett\nIn "Engaging Jehovah’s Witnesses
 "\, Tim Barnett equips Christians with the confidence and skills to engage
  in meaningful conversations with Jehovah’s Witnesses. Discover essentia
 l techniques—such as how to ask thoughtful questions and recognize logic
 al fallacies—and learn the importance of patience\, preparation\, and tr
 usting God with the outcomes. Tim guides you through biblical insights\, p
 ractical strategies\, and real-life examples to help you navigate these di
 scussions with both truth and gentleness. This course goes beyond simply t
 eaching what to say\; it shows you how to think and engage Jehovah’s Wit
 nesses in a way that honors Christ.\n\n \nMarch 9th and 16th\n\n\nGod the
  Son: Answering Nine Challenges to Jesus’ Deity\nInstructor: Tim Barnett
 \nIf you ask most Christians why they believe Jesus is God\, they will lik
 ely point to a Bible verse. But what happens when Bible verses get used ag
 ainst Jesus' deity? For example\, Jesus says\, “The Father is greater th
 an I” (John 14:28). How can anyone be greater than God? The Bible descri
 bes Jesus praying to God\, but how can Jesus pray to God if he is God? Jes
 us is called the “firstborn of creation” and “only begotten Son\,”
  but doesn't that mean he's created? \nSadly\, these and similar challeng
 es can leave Christians doubting Christ's deity. Here’s where this cours
 e will help. By offering clear and concise responses\, God the Son will eq
 uip you to effectively answer nine of the most common challenges raised ag
 ainst Jesus' deity.\n\n\n\nMarch 23rd and 30th\n\nRisen: The Case for the 
 Resurrection\nInstructor: Tim Barnett\nChristianity stands or falls on Jes
 us' resurrection. This is the central claim of Christianity. In this cours
 e\, we put Christianity to the test by investigating three established fac
 ts surrounding the resurrection. After exploring the facts\, we will look 
 at what best explains all the evidence. Finally\, we move from history to 
 theology and ask why the resurrection matters.\n\n\nAPRIL 6th - EASTER MON
 DAY\n\n\n\n\n\n\n\n\n\n
LAST-MODIFIED:20260425T030144
LOCATION:Campbell River Baptist Church
SUMMARY:Apologetics 
URL;VALUE=URI:https://www.crbaptist.bc.ca/events/apologetics/2026-11-02
ATTACH;FILENAME=STR Outposts_16-9_slide-01.png;FMTTYPE=image/png:https://dq
 5pwpg1q8ru0.cloudfront.net/2024/12/19/21/36/45/7cab9731-ba20-4061-a1bb-47a
 3e865bd4d/STR%20Outposts_16-9_slide-01.png
END:VEVENT
END:VCALENDAR
